Workbook

Sheet 高校男子
C2: 令和８年度石川県高等学校総合体育大会（駅伝競走）
F4: 参加申込書（男子）
B6: 学校名 団体名 | M6: 高 校 | N6: Ａ （選手権） | O6: ○で囲む
N7: Ｂ （オープン）
B9: NO. | C9: 登録番号 | E9: 氏 名 | M9: 学 年 | N9: 備 考
B10: 1
B11: 2
B12: 3
B13: 4
B14: 5
B15: 6
B16: 7
B17: 8
B18: 9
B19: 10
G21: ( 備考欄 Ｂオープンの部に出場する団体は所属校名を記入 )
B23: 石川県高等学校体育連盟 | G23: 会長 殿
B24: （一財）人石川陸上競技協会 | G24: 会長 殿
G26: 上記のとおり 参加料７、０００円を添えて申し込みます。
B27: 令和 | C27: 8 | D27: 年 | F27: 月 | H27: 日
B28: 学校長 | N28: 印
B29: 学校所在地 | E29: 〒
B30: 電話 | L30: ＴＥＬ
B31: 監督氏名 | N31: 印
B32: 監督電話 | L32: ＴＥＬ

Sheet 高校女子
C2: 令和８年度石川県高等学校総合体育大会（駅伝競走）
F4: 参加申込書（女子）
B6: 学校名 団体名 | M6: 高 校 | N6: Ａ （選手権） | O6: ○で囲む
N7: Ｂ （オープン）
B9: NO. | C9: 登録番号 | E9: 氏 名 | M9: 学 年 | N9: 備 考
B10: 1
B11: 2
B12: 3
B13: 4
B14: 5
B15: 6
B16: 7
B17: 8
G19: ( 備考欄 Ｂオープンの部に出場する団体は所属校名を記入 )
B21: 石川県高等学校体育連盟 | I21: 会長 殿
B22: （一財）人石川陸上競技協会 | I22: 会長 殿
G24: 上記のとおり 参加料７、０００円を添えて申し込みます。
B25: 令和 | C25: 8 | D25: 年 | F25: 月 | H25: 日
B26: 学校長 | N26: 印
B27: 学校所在地 | E27: 〒
B28: 電話 | L28: ＴＥＬ
B29: 監督氏名 | N29: 印
B30: 監督電話 | L30: ＴＥＬ

Sheet 一般男子
C2: 第 回 石川県駅伝競走選手権大会
F4: 参加申込書（男子）
B6: 学校名 団体名 | N6: Ａ （選手権） | O6: ○で囲む
N7: Ｂ （オープン）
B9: NO. | C9: 登録番号 | E9: 氏 名 | M9: 学 年 | N9: 備 考
B10: 1
B11: 2
B12: 3
B13: 4
B14: 5
B15: 6
B16: 7
B17: 8
B18: 9
B19: 10
N20: \
G21: ( 備考欄 Ｂオープンの部に出場する団体は所属名・登録陸協を記入 )
B24: （一財）人石川陸上競技協会 | G24: 会長 殿
G26: 上記のとおり 参加料１２、０００円を添えて申し込みます。
B27: 令和 | D27: 年 | F27: 月 | H27: 日
B28: 代表者 | N28: 印
B29: 代表者連絡先 | E29: 〒
B30: 電話 | E30: TEL
B31: 監督氏名 | N31: 印
B32: 監督電話 | E32: TEL | L32: （携帯）

Sheet 一般女子
C2: 第 回 石川県女子駅伝競走選手権大会
F4: 参加申込書（女子）
B6: 学校名 団体名 | N6: Ａ （選手権） | O6: ○で囲む
N7: Ｂ （オープン）
B9: NO. | C9: 登録番号 | E9: 氏 名 | M9: 学 年 | N9: 備 考
B10: 1
B11: 2
B12: 3
B13: 4
B14: 5
B15: 6
B16: 7
B17: 8
G19: ( 備考欄 Ｂオープンの部に出場する団体は所属名・登録陸協を記入 )
B22: （一財）人石川陸上競技協会 | G22: 会長 殿
G24: 上記のとおり 参加料１２、０００円を添えて申し込みます。
B25: 令和 | D25: 年 | F25: 月 | H25: 日
B26: 代表者 | N26: 印
B27: 代表者連絡先 | E27: 〒
B28: 電話 | E28: TEL
B29: 監督氏名 | N29: 印
B30: 監督電話 | E30: TEL | L30: （携帯）

Sheet Sheet3
B2: =一般男子!D6 -> 0 | C2: =B2 -> 0 | D2: =一般男子!E31 -> 0 | E2: =一般男子!L32 -> （携帯） | F2: 1 | G2: =一般男子!$C10 -> 0 | H2: =一般男子!$E10 -> 0 | I2: =一般男子!$M10 -> 0 | J2: =一般男子!$N10 -> 0 | K2: 2 | L2: =一般男子!$C11 -> 0 | M2: =一般男子!$E11 -> 0 | N2: =一般男子!$M11 -> 0 | O2: =一般男子!$N11 -> 0 | P2: 3 | Q2: =一般男子!$C12 -> 0 | R2: =一般男子!$E12 -> 0 | S2: =一般男子!$M12 -> 0 | T2: =一般男子!$N12 -> 0 | U2: 4 | V2: =一般男子!$C13 -> 0 | W2: =一般男子!$E13 -> 0 | X2: =一般男子!$M13 -> 0 | Y2: =一般男子!$N13 -> 0 | Z2: 5 | AA2: =一般男子!$C14 -> 0 | AB2: =一般男子!$E14 -> 0 | AC2: =一般男子!$M14 -> 0 | AD2: =一般男子!$N14 -> 0 | AE2: 6 | AF2: =一般男子!$C15 -> 0 | AG2: =一般男子!$E15 -> 0 | AH2: =一般男子!$M15 -> 0 | AI2: =一般男子!$N15 -> 0 | AJ2: 7 | AK2: =一般男子!$C16 -> 0 | AL2: =一般男子!$E16 -> 0 | AM2: =一般男子!$M16 -> 0 | AN2: =一般男子!$N16 -> 0 | AO2: 8 | AP2: =一般男子!$C17 -> 0 | AQ2: =一般男子!$E17 -> 0 | AR2: =一般男子!$M17 -> 0 | AS2: =一般男子!$N17 -> 0 | AT2: 9 | AU2: =一般男子!$C18 -> 0 | AV2: =一般男子!$E18 -> 0 | AW2: =一般男子!$M18 -> 0 | AX2: =一般男子!$N18 -> 0 | AY2: 10 | AZ2: =一般男子!$C19 -> 0 | BA2: =一般男子!$E19 -> 0 | BB2: =一般男子!$M19 -> 0 | BC2: =一般男子!$N19 -> 0
B3: =一般女子!D6 -> 0 | C3: =B3 -> 0 | D3: =一般女子!E29 -> 0 | E3: =一般女子!L30 -> （携帯） | F3: 1 | G3: =一般女子!$C10 -> 0 | H3: =一般女子!$E10 -> 0 | I3: =一般女子!$M10 -> 0 | J3: =一般女子!$N10 -> 0 | K3: 2 | L3: =一般女子!$C11 -> 0 | M3: =一般女子!$E11 -> 0 | N3: =一般女子!$M11 -> 0 | O3: =一般女子!$N11 -> 0 | P3: 3 | Q3: =一般女子!$C12 -> 0 | R3: =一般女子!$E12 -> 0 | S3: =一般女子!$M12 -> 0 | T3: =一般女子!$N12 -> 0 | U3: 4 | V3: =一般女子!$C13 -> 0 | W3: =一般女子!$E13 -> 0 | X3: =一般女子!$M13 -> 0 | Y3: =一般女子!$N13 -> 0 | Z3: 5 | AA3: =一般女子!$C14 -> 0 | AB3: =一般女子!$E14 -> 0 | AC3: =一般女子!$M14 -> 0 | AD3: =一般女子!$N14 -> 0 | AE3: 6 | AF3: =一般女子!$C15 -> 0 | AG3: =一般女子!$E15 -> 0 | AH3: =一般女子!$M15 -> 0 | AI3: =一般女子!$N15 -> 0 | AJ3: 7 | AK3: =一般女子!$C16 -> 0 | AL3: =一般女子!$E16 -> 0 | AM3: =一般女子!$M16 -> 0 | AN3: =一般女子!$N16 -> 0 | AO3: 8 | AP3: =一般女子!$C17 -> 0 | AQ3: =一般女子!$E17 -> 0 | AR3: =一般女子!$M17 -> 0 | AS3: =一般女子!$N17 -> 0 | AT3: 9 | AU3: =一般女子!$C18 -> 0 | AV3: =一般女子!$E18 -> 0 | AW3: =一般女子!$M18 -> 0 | AX3: =一般女子!$N18 -> 0 | AY3: 10
B4: =高校男子!D6 -> 0 | C4: =B4 -> 0 | D4: =高校男子!E31 -> 0 | E4: =高校男子!L32 -> ＴＥＬ | F4: 1 | G4: =高校男子!$C10 -> 0 | H4: =高校男子!$E10 -> 0 | I4: =高校男子!$M10 -> 0 | J4: =高校男子!$N10 -> 0 | K4: 2 | L4: =高校男子!$C11 -> 0 | M4: =高校男子!$E11 -> 0 | N4: =高校男子!$M11 -> 0 | O4: =高校男子!$N11 -> 0 | P4: 3 | Q4: =高校男子!$C12 -> 0 | R4: =高校男子!$E12 -> 0 | S4: =高校男子!$M12 -> 0 | T4: =高校男子!$N12 -> 0 | U4: 4 | V4: =高校男子!$C13 -> 0 | W4: =高校男子!$E13 -> 0 | X4: =高校男子!$M13 -> 0 | Y4: =高校男子!$N13 -> 0 | Z4: 5 | AA4: =高校男子!$C14 -> 0 | AB4: =高校男子!$E14 -> 0 | AC4: =高校男子!$M14 -> 0 | AD4: =高校男子!$N14 -> 0 | AE4: 6 | AF4: =高校男子!$C15 -> 0 | AG4: =高校男子!$E15 -> 0 | AH4: =高校男子!$M15 -> 0 | AI4: =高校男子!$N15 -> 0 | AJ4: 7 | AK4: =高校男子!$C16 -> 0 | AL4: =高校男子!$E16 -> 0 | AM4: =高校男子!$M16 -> 0 | AN4: =高校男子!$N16 -> 0 | AO4: 8 | AP4: =高校男子!$C17 -> 0 | AQ4: =高校男子!$E17 -> 0 | AR4: =高校男子!$M17 -> 0 | AS4: =高校男子!$N17 -> 0 | AT4: 9 | AU4: =高校男子!$C18 -> 0 | AV4: =高校男子!$E18 -> 0 | AW4: =高校男子!$M18 -> 0 | AX4: =高校男子!$N18 -> 0 | AY4: 10 | AZ4: =高校男子!$C19 -> 0 | BA4: =高校男子!$E19 -> 0 | BB4: =高校男子!$M19 -> 0 | BC4: =高校男子!$N19 -> 0
B5: =高校女子!D6 -> 0 | C5: =B5 -> 0 | D5: =高校女子!E29 -> 0 | E5: =高校女子!L30 -> ＴＥＬ | F5: 1 | G5: =高校女子!$C10 -> 0 | H5: =高校女子!$E10 -> 0 | I5: =高校女子!$M10 -> 0 | J5: =高校女子!$N10 -> 0 | K5: 2 | L5: =高校女子!$C11 -> 0 | M5: =高校女子!$E11 -> 0 | N5: =高校女子!$M11 -> 0 | O5: =高校女子!$N11 -> 0 | P5: 3 | Q5: =高校女子!$C12 -> 0 | R5: =高校女子!$E12 -> 0 | S5: =高校女子!$M12 -> 0 | T5: =高校女子!$N12 -> 0 | U5: 4 | V5: =高校女子!$C13 -> 0 | W5: =高校女子!$E13 -> 0 | X5: =高校女子!$M13 -> 0 | Y5: =高校女子!$N13 -> 0 | Z5: 5 | AA5: =高校女子!$C14 -> 0 | AB5: =高校女子!$E14 -> 0 | AC5: =高校女子!$M14 -> 0 | AD5: =高校女子!$N14 -> 0 | AE5: 6 | AF5: =高校女子!$C15 -> 0 | AG5: =高校女子!$E15 -> 0 | AH5: =高校女子!$M15 -> 0 | AI5: =高校女子!$N15 -> 0 | AJ5: 7 | AK5: =高校女子!$C16 -> 0 | AL5: =高校女子!$E16 -> 0 | AM5: =高校女子!$M16 -> 0 | AN5: =高校女子!$N16 -> 0 | AO5: 8 | AP5: =高校女子!$C17 -> 0 | AQ5: =高校女子!$E17 -> 0 | AR5: =高校女子!$M17 -> 0 | AS5: =高校女子!$N17 -> 0 | AT5: 9 | AU5: =高校女子!$C18 -> 0 | AV5: =高校女子!$E18 -> 0 | AW5: =高校女子!$M18 -> 0 | AX5: =高校女子!$N18 -> 0 | AY5: 10
AE6: 6 | AJ6: 7 | AT6: 9
